BEGIN:VCALENDAR
VERSION:2.0
PRODID:-//South Ronaldsay Golf Club - ECPv6.12.0.1//NONSGML v1.0//EN
CALSCALE:GREGORIAN
METHOD:PUBLISH
X-WR-CALNAME:South Ronaldsay Golf Club
X-ORIGINAL-URL:https://southronaldsaygolf.com
X-WR-CALDESC:Events for South Ronaldsay Golf Club
REFRESH-INTERVAL;VALUE=DURATION:PT1H
X-Robots-Tag:noindex
X-PUBLISHED-TTL:PT1H
BEGIN:VTIMEZONE
TZID:Europe/London
BEGIN:DAYLIGHT
TZOFFSETFROM:+0000
TZOFFSETTO:+0100
TZNAME:BST
DTSTART:20200329T010000
END:DAYLIGHT
BEGIN:STANDARD
TZOFFSETFROM:+0100
TZOFFSETTO:+0000
TZNAME:GMT
DTSTART:20201025T010000
END:STANDARD
END:VTIMEZONE
BEGIN:VEVENT
DTSTART;VALUE=DATE:20200913
DTEND;VALUE=DATE:20200914
DTSTAMP:20260423T102521
CREATED:20200904T174526Z
LAST-MODIFIED:20200904T175645Z
UID:1666-1599955200-1600041599@southronaldsaygolf.com
SUMMARY:SRGC Open
DESCRIPTION:Sunday 13th of September will be the day for the 2020SRGC open. \nPlaces are limited to 54 and are going fast so please get your entry in asap to avoid disappointment. \nEntry fee is £7 and is paid when the entry is made at –https://www.masterscoreboard.co.uk/bookgen/ClubBookings.php?CWID=6621 \nSelect tee time dependant on whether you wish to play in the morning or afternoon BUT please note that there will be a draw made so the time and players you book with will not necessarily be when and with whom you play as per normal draws. \nThe course will be closed to general play this day so apologies to those that may be affected. \n 
URL:https://southronaldsaygolf.com/event/srgc-open/
END:VEVENT
END:VCALENDAR