BEGIN:VCALENDAR
VERSION:2.0
PRODID:-//South Ronaldsay Golf Club - ECPv6.12.0.1//NONSGML v1.0//EN
CALSCALE:GREGORIAN
METHOD:PUBLISH
X-WR-CALNAME:South Ronaldsay Golf Club
X-ORIGINAL-URL:https://southronaldsaygolf.com
X-WR-CALDESC:Events for South Ronaldsay Golf Club
REFRESH-INTERVAL;VALUE=DURATION:PT1H
X-Robots-Tag:noindex
X-PUBLISHED-TTL:PT1H
BEGIN:VTIMEZONE
TZID:Europe/London
BEGIN:DAYLIGHT
TZOFFSETFROM:+0000
TZOFFSETTO:+0100
TZNAME:BST
DTSTART:20190331T010000
END:DAYLIGHT
BEGIN:STANDARD
TZOFFSETFROM:+0100
TZOFFSETTO:+0000
TZNAME:GMT
DTSTART:20191027T010000
END:STANDARD
END:VTIMEZONE
BEGIN:VEVENT
DTSTART;TZID=Europe/London:20190803T060000
DTEND;TZID=Europe/London:20190803T060000
DTSTAMP:20260424T101712
CREATED:20190623T073104Z
LAST-MODIFIED:20190623T073104Z
UID:1421-1564812000-1564812000@southronaldsaygolf.com
SUMMARY:Stromness 36 hole Open
DESCRIPTION:Entry forms – http://www.stromnessgc.co.uk/stromnessopen2019.pdf
URL:https://southronaldsaygolf.com/event/stromness-36-hole-open/
LOCATION:Stromness Golf Club\, Stromness\, United Kingdom
END:VEVENT
BEGIN:VEVENT
DTSTART;TZID=Europe/London:20190804T130000
DTEND;TZID=Europe/London:20190804T130000
DTSTAMP:20260424T101712
CREATED:20190802T071853Z
LAST-MODIFIED:20190802T072111Z
UID:1487-1564923600-1564923600@southronaldsaygolf.com
SUMMARY:Par (Bogey)
DESCRIPTION:1pm tee
URL:https://southronaldsaygolf.com/event/par-bogey/
END:VEVENT
BEGIN:VEVENT
DTSTART;TZID=Europe/London:20190807T173000
DTEND;TZID=Europe/London:20190807T173000
DTSTAMP:20260424T101712
CREATED:20190802T072041Z
LAST-MODIFIED:20190802T072041Z
UID:1489-1565199000-1565199000@southronaldsaygolf.com
SUMMARY:Summer Stableford
DESCRIPTION:Back 9 Rnd 2 tee off 5:30pm
URL:https://southronaldsaygolf.com/event/summer-stableford-6/
END:VEVENT
BEGIN:VEVENT
DTSTART;TZID=Europe/London:20190808T173000
DTEND;TZID=Europe/London:20190808T173000
DTSTAMP:20260424T101712
CREATED:20190802T072256Z
LAST-MODIFIED:20190802T072256Z
UID:1491-1565285400-1565285400@southronaldsaygolf.com
SUMMARY:18 Hole Summer Stableford
DESCRIPTION:Tee off 5:30pm \nRound 4 Men’s Singles Stableford Competition.
URL:https://southronaldsaygolf.com/event/18-hole-summer-stableford-4/
END:VEVENT
BEGIN:VEVENT
DTSTART;TZID=Europe/London:20190810T090000
DTEND;TZID=Europe/London:20190810T090000
DTSTAMP:20260424T101712
CREATED:20190802T072840Z
LAST-MODIFIED:20190802T072840Z
UID:1493-1565427600-1565427600@southronaldsaygolf.com
SUMMARY:Summer League
DESCRIPTION:Round 10. Tee off at 09:00 \nMen’s Singles Regular Stroke Play Competition.
URL:https://southronaldsaygolf.com/event/summer-league-8/
END:VEVENT
BEGIN:VEVENT
DTSTART;TZID=Europe/London:20190824T130000
DTEND;TZID=Europe/London:20190824T140000
DTSTAMP:20260424T101712
CREATED:20190401T212519Z
LAST-MODIFIED:20190401T212519Z
UID:1082-1566651600-1566655200@southronaldsaygolf.com
SUMMARY:Group Booking
DESCRIPTION:A group from the Orcadian have provisionally booked the 1st Tee for 1pm.
URL:https://southronaldsaygolf.com/event/group-booking/
END:VEVENT
BEGIN:VEVENT
DTSTART;TZID=Europe/London:20190831T090000
DTEND;TZID=Europe/London:20190831T090000
DTSTAMP:20260424T101712
CREATED:20190623T071834Z
LAST-MODIFIED:20190623T071834Z
UID:1417-1567242000-1567242000@southronaldsaygolf.com
SUMMARY:2019 Highland Park August Medal
DESCRIPTION:
URL:https://southronaldsaygolf.com/event/2019-highland-park-august-medal/
END:VEVENT
END:VCALENDAR