BEGIN:VCALENDAR
VERSION:2.0
PRODID:-//South Ronaldsay Golf Club - ECPv6.12.0.1//NONSGML v1.0//EN
CALSCALE:GREGORIAN
METHOD:PUBLISH
X-ORIGINAL-URL:https://southronaldsaygolf.com
X-WR-CALDESC:Events for South Ronaldsay Golf Club
REFRESH-INTERVAL;VALUE=DURATION:PT1H
X-Robots-Tag:noindex
X-PUBLISHED-TTL:PT1H
BEGIN:VTIMEZONE
TZID:Europe/London
BEGIN:DAYLIGHT
TZOFFSETFROM:+0000
TZOFFSETTO:+0100
TZNAME:BST
DTSTART:20190331T010000
END:DAYLIGHT
BEGIN:STANDARD
TZOFFSETFROM:+0100
TZOFFSETTO:+0000
TZNAME:GMT
DTSTART:20191027T010000
END:STANDARD
END:VTIMEZONE
BEGIN:VEVENT
DTSTART;TZID=Europe/London:20190703T180000
DTEND;TZID=Europe/London:20190703T180000
DTSTAMP:20260424T120038
CREATED:20190620T094509Z
LAST-MODIFIED:20190620T094509Z
UID:1378-1562176800-1562176800@southronaldsaygolf.com
SUMMARY:18 Hole Summer Stableford
DESCRIPTION:Round 4 \n 
URL:https://southronaldsaygolf.com/event/18-hole-summer-stableford/
END:VEVENT
BEGIN:VEVENT
DTSTART;TZID=Europe/London:20190706T090000
DTEND;TZID=Europe/London:20190706T090000
DTSTAMP:20260424T120038
CREATED:20190620T094608Z
LAST-MODIFIED:20190620T094608Z
UID:1380-1562403600-1562403600@southronaldsaygolf.com
SUMMARY:Summer League
DESCRIPTION:Round 8
URL:https://southronaldsaygolf.com/event/summer-league-6/
END:VEVENT
BEGIN:VEVENT
DTSTART;TZID=Europe/London:20190707T090000
DTEND;TZID=Europe/London:20190707T090000
DTSTAMP:20260424T120038
CREATED:20190620T094650Z
LAST-MODIFIED:20190620T094716Z
UID:1382-1562490000-1562490000@southronaldsaygolf.com
SUMMARY:2019 Highland Park July Medal
DESCRIPTION:
URL:https://southronaldsaygolf.com/event/2019-highland-park-july-medal/
END:VEVENT
BEGIN:VEVENT
DTSTART;TZID=Europe/London:20190707T140000
DTEND;TZID=Europe/London:20190707T173000
DTSTAMP:20260424T120038
CREATED:20190623T074022Z
LAST-MODIFIED:20190623T074158Z
UID:1427-1562508000-1562520600@southronaldsaygolf.com
SUMMARY:Donaldsons of Orkney Senior Ladies Open
DESCRIPTION:Shot gun start at 2pm – limited numbers so get your name in quick.
URL:https://southronaldsaygolf.com/event/donaldsons-of-orkney-senior-ladies-open/
END:VEVENT
BEGIN:VEVENT
DTSTART;TZID=Europe/London:20190709T180000
DTEND;TZID=Europe/London:20190709T183000
DTSTAMP:20260424T120038
CREATED:20190620T094853Z
LAST-MODIFIED:20190620T094853Z
UID:1385-1562695200-1562697000@southronaldsaygolf.com
SUMMARY:Ladies SGL Medal
DESCRIPTION:
URL:https://southronaldsaygolf.com/event/ladies-sgl-medal/
END:VEVENT
BEGIN:VEVENT
DTSTART;TZID=Europe/London:20190710T090000
DTEND;TZID=Europe/London:20190710T090000
DTSTAMP:20260424T120038
CREATED:20190621T094212Z
LAST-MODIFIED:20190621T094212Z
UID:1392-1562749200-1562749200@southronaldsaygolf.com
SUMMARY:18 Hole Summer Stableford
DESCRIPTION:Round 5
URL:https://southronaldsaygolf.com/event/18-hole-summer-stableford-2/
END:VEVENT
BEGIN:VEVENT
DTSTART;TZID=Europe/London:20190711T150000
DTEND;TZID=Europe/London:20190711T180000
DTSTAMP:20260424T120038
CREATED:20190621T094411Z
LAST-MODIFIED:20190621T094411Z
UID:1394-1562857200-1562868000@southronaldsaygolf.com
SUMMARY:18 Hole Open Sweep
DESCRIPTION:15:00 and 18:00 tee times
URL:https://southronaldsaygolf.com/event/18-hole-open-sweep/
END:VEVENT
BEGIN:VEVENT
DTSTART;TZID=Europe/London:20190713T070000
DTEND;TZID=Europe/London:20190713T200000
DTSTAMP:20260424T120038
CREATED:20190620T095743Z
LAST-MODIFIED:20190626T180823Z
UID:1387-1563001200-1563048000@southronaldsaygolf.com
SUMMARY:South Ronaldsay Golf Club Open Sponsored by Orkney Hotel & Murray Arms
DESCRIPTION:Entry sheets in the club or use this link SOUTH RONALDSAY GOLF CLUB OPEN ENTRY FORM \nPLEASE NOTE THE COURSE WILL CLOSE FOR THIS EVENT
URL:https://southronaldsaygolf.com/event/south-ronaldsay-golf-club-open-sponsored-by-orkney-hotel-murray-arms/
END:VEVENT
BEGIN:VEVENT
DTSTART;TZID=Europe/London:20190716T180000
DTEND;TZID=Europe/London:20190716T183000
DTSTAMP:20260424T120038
CREATED:20190621T094514Z
LAST-MODIFIED:20190621T094514Z
UID:1396-1563300000-1563301800@southronaldsaygolf.com
SUMMARY:Ladies July Medal
DESCRIPTION:
URL:https://southronaldsaygolf.com/event/ladies-july-medal/
END:VEVENT
BEGIN:VEVENT
DTSTART;TZID=Europe/London:20190717T180000
DTEND;TZID=Europe/London:20190717T180000
DTSTAMP:20260424T120038
CREATED:20190621T094823Z
LAST-MODIFIED:20190621T094823Z
UID:1398-1563386400-1563386400@southronaldsaygolf.com
SUMMARY:18 Hole Summer Stableford
DESCRIPTION:Round 6
URL:https://southronaldsaygolf.com/event/18-hole-summer-stableford-3/
END:VEVENT
BEGIN:VEVENT
DTSTART;TZID=Europe/London:20190720T080000
DTEND;TZID=Europe/London:20190720T170000
DTSTAMP:20260424T120038
CREATED:20190621T095846Z
LAST-MODIFIED:20190622T094538Z
UID:1403-1563609600-1563642000@southronaldsaygolf.com
SUMMARY:Ladies Captains prize
DESCRIPTION:Time to be advised
URL:https://southronaldsaygolf.com/event/2019-captains-prize/
END:VEVENT
BEGIN:VEVENT
DTSTART;TZID=Europe/London:20190720T080000
DTEND;TZID=Europe/London:20190720T170000
DTSTAMP:20260424T120038
CREATED:20190622T094853Z
LAST-MODIFIED:20190623T071531Z
UID:1406-1563609600-1563642000@southronaldsaygolf.com
SUMMARY:Lows mens and ladies Opens at OGC
DESCRIPTION:Details to follow –
URL:https://southronaldsaygolf.com/event/lows-open-at-ogc/
END:VEVENT
BEGIN:VEVENT
DTSTART;TZID=Europe/London:20190721T080000
DTEND;TZID=Europe/London:20190721T170000
DTSTAMP:20260424T120038
CREATED:20190623T073312Z
LAST-MODIFIED:20190623T073312Z
UID:1423-1563696000-1563728400@southronaldsaygolf.com
SUMMARY:Shopping week open @ Stromness GC
DESCRIPTION:Details TBA or contact J Heddle at SGC
URL:https://southronaldsaygolf.com/event/shopping-week-open-stromness-gc/
LOCATION:Stromness Golf Club\, Stromness\, United Kingdom
END:VEVENT
BEGIN:VEVENT
DTSTART;TZID=Europe/London:20190721T140000
DTEND;TZID=Europe/London:20190721T140000
DTSTAMP:20260424T120038
CREATED:20190622T095055Z
LAST-MODIFIED:20190622T095055Z
UID:1409-1563717600-1563717600@southronaldsaygolf.com
SUMMARY:Summer League
DESCRIPTION:Round 9
URL:https://southronaldsaygolf.com/event/summer-league-7/
END:VEVENT
BEGIN:VEVENT
DTSTART;TZID=Europe/London:20190723T180000
DTEND;TZID=Europe/London:20190723T183000
DTSTAMP:20260424T120038
CREATED:20190622T095151Z
LAST-MODIFIED:20190622T095151Z
UID:1411-1563904800-1563906600@southronaldsaygolf.com
SUMMARY:Ladies SGL Medal
DESCRIPTION:
URL:https://southronaldsaygolf.com/event/ladies-sgl-medal-2/
END:VEVENT
BEGIN:VEVENT
DTSTART;TZID=Europe/London:20190727T080000
DTEND;TZID=Europe/London:20190727T080000
DTSTAMP:20260424T120038
CREATED:20190623T072738Z
LAST-MODIFIED:20190623T072738Z
UID:1419-1564214400-1564214400@southronaldsaygolf.com
SUMMARY:Gents - JW Gray Kirkwall 36 hole open
DESCRIPTION:Entry forms – https://orkneygolfclub.co.uk/2019/06/14/kirkwall-open-2019-entry-form/ \n 
URL:https://southronaldsaygolf.com/event/gents-jw-gray-kirkwall-36-hole-open/
LOCATION:Orkney Golf Club\, Grainbank\, Kirkwall\, Orkney\, United Kingdom
END:VEVENT
BEGIN:VEVENT
DTSTART;TZID=Europe/London:20190728T080000
DTEND;TZID=Europe/London:20190728T080000
DTSTAMP:20260424T120038
CREATED:20190623T073448Z
LAST-MODIFIED:20190623T073448Z
UID:1425-1564300800-1564300800@southronaldsaygolf.com
SUMMARY:Stromness Senior Mens Open
DESCRIPTION:Detail TBA or contact J Heddle at SGC
URL:https://southronaldsaygolf.com/event/stromness-senior-mens-open/
LOCATION:Stromness Golf Club\, Stromness\, United Kingdom
END:VEVENT
BEGIN:VEVENT
DTSTART;TZID=Europe/London:20190728T180000
DTEND;TZID=Europe/London:20190728T180000
DTSTAMP:20260424T120038
CREATED:20190622T095251Z
LAST-MODIFIED:20190622T095352Z
UID:1413-1564336800-1564336800@southronaldsaygolf.com
SUMMARY:Under 50s Cup
DESCRIPTION:Round 3
URL:https://southronaldsaygolf.com/event/pairs-greensomes/
END:VEVENT
END:VCALENDAR