BEGIN:VCALENDAR
VERSION:2.0
PRODID:-//South Ronaldsay Golf Club - ECPv6.12.0.1//NONSGML v1.0//EN
CALSCALE:GREGORIAN
METHOD:PUBLISH
X-WR-CALNAME:South Ronaldsay Golf Club
X-ORIGINAL-URL:https://southronaldsaygolf.com
X-WR-CALDESC:Events for South Ronaldsay Golf Club
REFRESH-INTERVAL;VALUE=DURATION:PT1H
X-Robots-Tag:noindex
X-PUBLISHED-TTL:PT1H
BEGIN:VTIMEZONE
TZID:Europe/London
BEGIN:DAYLIGHT
TZOFFSETFROM:+0000
TZOFFSETTO:+0100
TZNAME:BST
DTSTART:20180325T010000
END:DAYLIGHT
BEGIN:STANDARD
TZOFFSETFROM:+0100
TZOFFSETTO:+0000
TZNAME:GMT
DTSTART:20181028T010000
END:STANDARD
BEGIN:DAYLIGHT
TZOFFSETFROM:+0000
TZOFFSETTO:+0100
TZNAME:BST
DTSTART:20190331T010000
END:DAYLIGHT
BEGIN:STANDARD
TZOFFSETFROM:+0100
TZOFFSETTO:+0000
TZNAME:GMT
DTSTART:20191027T010000
END:STANDARD
END:VTIMEZONE
BEGIN:VEVENT
DTSTART;TZID=Europe/London:20190615T140000
DTEND;TZID=Europe/London:20190615T160000
DTSTAMP:20260420T015622
CREATED:20190609T195309Z
LAST-MODIFIED:20190611T081819Z
UID:1321-1560607200-1560614400@southronaldsaygolf.com
SUMMARY:Junior Pipe Dream Plumbing open
DESCRIPTION: 
URL:https://southronaldsaygolf.com/event/junior-pipe-dream-plumbing-open/
END:VEVENT
BEGIN:VEVENT
DTSTART;TZID=Europe/London:20190612T180000
DTEND;TZID=Europe/London:20190612T180000
DTSTAMP:20260420T015622
CREATED:20190601T073842Z
LAST-MODIFIED:20190601T074440Z
UID:1274-1560362400-1560362400@southronaldsaygolf.com
SUMMARY:Summer Stableford
DESCRIPTION:18 hole stableford \nRound 2\, draw at 6pm
URL:https://southronaldsaygolf.com/event/summer-stableford-4/
END:VEVENT
BEGIN:VEVENT
DTSTART;TZID=Europe/London:20190609T180000
DTEND;TZID=Europe/London:20190609T180000
DTSTAMP:20260420T015622
CREATED:20190607T071705Z
LAST-MODIFIED:20190607T071705Z
UID:1301-1560103200-1560103200@southronaldsaygolf.com
SUMMARY:U50's Cup
DESCRIPTION:Round 1\, 6pm tee off
URL:https://southronaldsaygolf.com/event/u50s-cup/
END:VEVENT
BEGIN:VEVENT
DTSTART;TZID=Europe/London:20190609T130000
DTEND;TZID=Europe/London:20190609T170000
DTSTAMP:20260420T015622
CREATED:20190531T073008Z
LAST-MODIFIED:20190531T073008Z
UID:1265-1560085200-1560099600@southronaldsaygolf.com
SUMMARY:Donaldsons Senior Mens Open
DESCRIPTION:Entry sheets at the club or message us for an entry. \nShotgun start at 1pm £5 entry fee
URL:https://southronaldsaygolf.com/event/donaldsons-senior-mens-open/
END:VEVENT
BEGIN:VEVENT
DTSTART;TZID=Europe/London:20190607T180000
DTEND;TZID=Europe/London:20190607T180000
DTSTAMP:20260420T015622
CREATED:20190601T074052Z
LAST-MODIFIED:20190602T143031Z
UID:1276-1559930400-1559930400@southronaldsaygolf.com
SUMMARY:Ladies SGL Medal
DESCRIPTION:Draw at 6pm
URL:https://southronaldsaygolf.com/event/ladies-slg-medal/
END:VEVENT
BEGIN:VEVENT
DTSTART;TZID=Europe/London:20190605T180000
DTEND;TZID=Europe/London:20190605T180000
DTSTAMP:20260420T015622
CREATED:20190601T073631Z
LAST-MODIFIED:20190601T074524Z
UID:1272-1559757600-1559757600@southronaldsaygolf.com
SUMMARY:Summer Stableford
DESCRIPTION:18 hole stableford \nRound 1\, draw at 6pm
URL:https://southronaldsaygolf.com/event/summer-stableford-3/
END:VEVENT
BEGIN:VEVENT
DTSTART;TZID=Europe/London:20190602T140000
DTEND;TZID=Europe/London:20190602T160000
DTSTAMP:20260420T015622
CREATED:20190519T082228Z
LAST-MODIFIED:20190519T082228Z
UID:1252-1559484000-1559491200@southronaldsaygolf.com
SUMMARY:Roving Pro junior coaching
DESCRIPTION:2pm – 4pm \nPLEASE NOTE THE 1st and 9th WILL BE OUT OF PLAY DURING THIS TIME\, THE REST OF THE COURSE REMAINS OPEN. \nWE APOLOGISE FOR THIS INCONVENIENCE.
URL:https://southronaldsaygolf.com/event/roving-pro-junior-coaching-2/
END:VEVENT
BEGIN:VEVENT
DTSTART;TZID=Europe/London:20190602T090000
DTEND;TZID=Europe/London:20190602T090000
DTSTAMP:20260420T015622
CREATED:20190519T081937Z
LAST-MODIFIED:20190519T081937Z
UID:1250-1559466000-1559466000@southronaldsaygolf.com
SUMMARY:Highland Park May Medal
DESCRIPTION:9am tee off
URL:https://southronaldsaygolf.com/event/highland-park-may-medal/
END:VEVENT
BEGIN:VEVENT
DTSTART;TZID=Europe/London:20190601T163000
DTEND;TZID=Europe/London:20190601T200000
DTSTAMP:20260420T015622
CREATED:20190519T081651Z
LAST-MODIFIED:20190519T081712Z
UID:1248-1559406600-1559419200@southronaldsaygolf.com
SUMMARY:Adults GiG coaching
DESCRIPTION:4:30pm – 8pm \nPLEASE NOTE THE 1st and 9th WILL BE OUT OF PLAY DURING THIS TIME\, THE REST OF THE COURSE REMAINS OPEN. \nWE APOLOGISE FOR THIS INCONVENIENCE.
URL:https://southronaldsaygolf.com/event/adults-gig-coaching/
END:VEVENT
BEGIN:VEVENT
DTSTART;TZID=Europe/London:20190601T130000
DTEND;TZID=Europe/London:20190601T160000
DTSTAMP:20260420T015622
CREATED:20190519T081550Z
LAST-MODIFIED:20190519T081550Z
UID:1246-1559394000-1559404800@southronaldsaygolf.com
SUMMARY:Roving pro junior coaching
DESCRIPTION:1pm to 4pm \nPLEASE NOTE THE 1st and 9th WILL BE OUT OF PLAY DURING THIS TIME\, THE REST OF THE COURSE REMAINS OPEN. \nWE APOLOGISE FOR THIS INCONVENIENCE.
URL:https://southronaldsaygolf.com/event/roving-pro-junior-coaching/
END:VEVENT
BEGIN:VEVENT
DTSTART;TZID=Europe/London:20190529T180000
DTEND;TZID=Europe/London:20190529T180000
DTSTAMP:20260420T015622
CREATED:20190518T165035Z
LAST-MODIFIED:20190518T165035Z
UID:1244-1559152800-1559152800@southronaldsaygolf.com
SUMMARY:Summer Stableford
DESCRIPTION:Front 9 rnd 6 6pm tee off
URL:https://southronaldsaygolf.com/event/summer-stableford-2/
END:VEVENT
BEGIN:VEVENT
DTSTART;VALUE=DATE:20190526
DTEND;VALUE=DATE:20190527
DTSTAMP:20260420T015622
CREATED:20190518T160936Z
LAST-MODIFIED:20190518T160936Z
UID:1239-1558828800-1558915199@southronaldsaygolf.com
SUMMARY:Ladies Robertsons Open
DESCRIPTION:Name sheets at the clubs or email us your entry.
URL:https://southronaldsaygolf.com/event/ladies-robertsons-open/
END:VEVENT
BEGIN:VEVENT
DTSTART;TZID=Europe/London:20190525T090000
DTEND;TZID=Europe/London:20190525T093000
DTSTAMP:20260420T015622
CREATED:20190518T161026Z
LAST-MODIFIED:20190518T161026Z
UID:1241-1558774800-1558776600@southronaldsaygolf.com
SUMMARY:Summer League
DESCRIPTION:Round 6 \n9am tee off
URL:https://southronaldsaygolf.com/event/summer-league-4/
END:VEVENT
BEGIN:VEVENT
DTSTART;TZID=Europe/London:20190522T180000
DTEND;TZID=Europe/London:20190522T180000
DTSTAMP:20260420T015622
CREATED:20190518T160730Z
LAST-MODIFIED:20190518T160730Z
UID:1237-1558548000-1558548000@southronaldsaygolf.com
SUMMARY:Summer Stableford
DESCRIPTION:Front 9 \nTee off 6pm
URL:https://southronaldsaygolf.com/event/summer-stableford/
END:VEVENT
BEGIN:VEVENT
DTSTART;TZID=Europe/London:20190521T183000
DTEND;TZID=Europe/London:20190521T183000
DTSTAMP:20260420T015622
CREATED:20190518T160619Z
LAST-MODIFIED:20190518T160619Z
UID:1235-1558463400-1558463400@southronaldsaygolf.com
SUMMARY:Ladies May Medal
DESCRIPTION:
URL:https://southronaldsaygolf.com/event/ladies-may-medal/
END:VEVENT
BEGIN:VEVENT
DTSTART;TZID=Europe/London:20190519T090000
DTEND;TZID=Europe/London:20190519T220000
DTSTAMP:20260420T015622
CREATED:20190518T160518Z
LAST-MODIFIED:20190518T160518Z
UID:1233-1558256400-1558303200@southronaldsaygolf.com
SUMMARY:Summer League
DESCRIPTION:Round 5 \nTee off 9am
URL:https://southronaldsaygolf.com/event/summer-league-3/
END:VEVENT
BEGIN:VEVENT
DTSTART;TZID=Europe/London:20190512T090000
DTEND;TZID=Europe/London:20190512T220000
DTSTAMP:20260420T015622
CREATED:20190505T204949Z
LAST-MODIFIED:20190505T204949Z
UID:1229-1557651600-1557698400@southronaldsaygolf.com
SUMMARY:Summer League
DESCRIPTION:9 am tee off \nRound 4
URL:https://southronaldsaygolf.com/event/summer-league-2/
END:VEVENT
BEGIN:VEVENT
DTSTART;TZID=Europe/London:20190511T080000
DTEND;TZID=Europe/London:20190511T170000
DTSTAMP:20260420T015622
CREATED:20190505T204853Z
LAST-MODIFIED:20190505T205050Z
UID:1227-1557561600-1557594000@southronaldsaygolf.com
SUMMARY:Streamline Shipping Open at OCG
DESCRIPTION:Names sheets at the club \nNames to be in by 5pm on Wednesday
URL:https://southronaldsaygolf.com/event/streamline-shipping-open-at-ocg/
END:VEVENT
BEGIN:VEVENT
DTSTART;TZID=Europe/London:20190505T090000
DTEND;TZID=Europe/London:20190505T220000
DTSTAMP:20260420T015622
CREATED:20190505T204737Z
LAST-MODIFIED:20190505T204737Z
UID:1225-1557046800-1557093600@southronaldsaygolf.com
SUMMARY:Summer League
DESCRIPTION:9 am tee off \nRound 3
URL:https://southronaldsaygolf.com/event/summer-league/
END:VEVENT
BEGIN:VEVENT
DTSTART;TZID=Europe/London:20190501T180000
DTEND;TZID=Europe/London:20190501T183000
DTSTAMP:20260420T015622
CREATED:20190428T101102Z
LAST-MODIFIED:20190428T101102Z
UID:1207-1556733600-1556735400@southronaldsaygolf.com
SUMMARY:9 Hole Stableford
DESCRIPTION:Front 9 \n2nd round (Eclectic)
URL:https://southronaldsaygolf.com/event/9-hole-stableford/
END:VEVENT
BEGIN:VEVENT
DTSTART;TZID=Europe/London:20190428T090000
DTEND;TZID=Europe/London:20190428T130000
DTSTAMP:20260420T015622
CREATED:20190420T133227Z
LAST-MODIFIED:20190420T133305Z
UID:1105-1556442000-1556456400@southronaldsaygolf.com
SUMMARY:Highland Park April Medal
DESCRIPTION:9am tee off
URL:https://southronaldsaygolf.com/event/highland-park-april-medal/
END:VEVENT
BEGIN:VEVENT
DTSTART;TZID=Europe/London:20190427T080000
DTEND;TZID=Europe/London:20190427T170000
DTSTAMP:20260420T015622
CREATED:20190420T132814Z
LAST-MODIFIED:20190420T132814Z
UID:1103-1556352000-1556384400@southronaldsaygolf.com
SUMMARY:Ladies - Scapa Garage Open
DESCRIPTION:Name sheets are in the club house and at SGC and OGC or email the club
URL:https://southronaldsaygolf.com/event/ladies-scapa-garage-open/
END:VEVENT
BEGIN:VEVENT
DTSTART;TZID=Europe/London:20190427T080000
DTEND;TZID=Europe/London:20190427T170000
DTSTAMP:20260420T015622
CREATED:20190420T132451Z
LAST-MODIFIED:20190420T132717Z
UID:1100-1556352000-1556384400@southronaldsaygolf.com
SUMMARY:Gents - Scapa Garage Open
DESCRIPTION:Names sheets will be in the club house and at SGC and OGC or email the club.
URL:https://southronaldsaygolf.com/event/scapa-garage-open/
END:VEVENT
BEGIN:VEVENT
DTSTART;TZID=Europe/London:20190407T100000
DTEND;TZID=Europe/London:20190407T160000
DTSTAMP:20260420T015622
CREATED:20190319T121326Z
LAST-MODIFIED:20190319T122007Z
UID:1033-1554631200-1554652800@southronaldsaygolf.com
SUMMARY:Scootie Pudding
DESCRIPTION:The annual grudge match between our club and Stromness. \nThis year it will be hosted by Stromness. \nNames sheet in club house.
URL:https://southronaldsaygolf.com/event/scootie-pudding/
LOCATION:Stromness Golf Club\, Stromness\, United Kingdom
END:VEVENT
BEGIN:VEVENT
DTSTART;TZID=Europe/London:20190222T200000
DTEND;TZID=Europe/London:20190222T200000
DTSTAMP:20260420T015622
CREATED:20181211T131202Z
LAST-MODIFIED:20181211T131202Z
UID:422-1550865600-1550865600@southronaldsaygolf.com
SUMMARY:Pub Quiz
DESCRIPTION:
URL:https://southronaldsaygolf.com/event/pub-quiz-2/
LOCATION:Murray Arms Hotel
END:VEVENT
BEGIN:VEVENT
DTSTART;TZID=Europe/London:20190125T200000
DTEND;TZID=Europe/London:20190125T200000
DTSTAMP:20260420T015622
CREATED:20181211T131138Z
LAST-MODIFIED:20181211T131138Z
UID:419-1548446400-1548446400@southronaldsaygolf.com
SUMMARY:Burns Night Quiz
DESCRIPTION:
URL:https://southronaldsaygolf.com/event/burns-night-quiz/
END:VEVENT
BEGIN:VEVENT
DTSTART;TZID=Europe/London:20181228T200000
DTEND;TZID=Europe/London:20181228T200000
DTSTAMP:20260420T015622
CREATED:20181211T131046Z
LAST-MODIFIED:20181211T131046Z
UID:416-1546027200-1546027200@southronaldsaygolf.com
SUMMARY:Pub Quiz
DESCRIPTION:
URL:https://southronaldsaygolf.com/event/pub-quiz/
LOCATION:Murray Arms Hotel
END:VEVENT
BEGIN:VEVENT
DTSTART;TZID=Europe/London:20181216T104500
DTEND;TZID=Europe/London:20181216T104500
DTSTAMP:20260420T015622
CREATED:20181211T114940Z
LAST-MODIFIED:20181211T131236Z
UID:413-1544957100-1544957100@southronaldsaygolf.com
SUMMARY:Ladies Winter Golf
DESCRIPTION:
URL:https://southronaldsaygolf.com/event/ladies-winter-golf/
END:VEVENT
END:VCALENDAR