BEGIN:VCALENDAR
VERSION:2.0
PRODID:-//South Ronaldsay Golf Club - ECPv6.12.0.1//NONSGML v1.0//EN
CALSCALE:GREGORIAN
METHOD:PUBLISH
X-WR-CALNAME:South Ronaldsay Golf Club
X-ORIGINAL-URL:https://southronaldsaygolf.com
X-WR-CALDESC:Events for South Ronaldsay Golf Club
REFRESH-INTERVAL;VALUE=DURATION:PT1H
X-Robots-Tag:noindex
X-PUBLISHED-TTL:PT1H
BEGIN:VTIMEZONE
TZID:Europe/London
BEGIN:DAYLIGHT
TZOFFSETFROM:+0000
TZOFFSETTO:+0100
TZNAME:BST
DTSTART:20230326T010000
END:DAYLIGHT
BEGIN:STANDARD
TZOFFSETFROM:+0100
TZOFFSETTO:+0000
TZNAME:GMT
DTSTART:20231029T010000
END:STANDARD
BEGIN:DAYLIGHT
TZOFFSETFROM:+0000
TZOFFSETTO:+0100
TZNAME:BST
DTSTART:20240331T010000
END:DAYLIGHT
BEGIN:STANDARD
TZOFFSETFROM:+0100
TZOFFSETTO:+0000
TZNAME:GMT
DTSTART:20241027T010000
END:STANDARD
BEGIN:DAYLIGHT
TZOFFSETFROM:+0000
TZOFFSETTO:+0100
TZNAME:BST
DTSTART:20250330T010000
END:DAYLIGHT
BEGIN:STANDARD
TZOFFSETFROM:+0100
TZOFFSETTO:+0000
TZNAME:GMT
DTSTART:20251026T010000
END:STANDARD
END:VTIMEZONE
BEGIN:VEVENT
DTSTART;TZID=Europe/London:20230430T093000
DTEND;TZID=Europe/London:20230430T230000
DTSTAMP:20260421T061617
CREATED:20230427T085410Z
LAST-MODIFIED:20230427T085508Z
UID:1904-1682847000-1682895600@southronaldsaygolf.com
SUMMARY:Summer League
DESCRIPTION:Mens 18 hole stroke play competition. \n6 score out of the 12 rounds will count.
URL:https://southronaldsaygolf.com/event/summer-league-9/
CATEGORIES:Mens competition
END:VEVENT
BEGIN:VEVENT
DTSTART;TZID=Europe/London:20230503T180000
DTEND;TZID=Europe/London:20230503T190000
DTSTAMP:20260421T061617
CREATED:20230427T084514Z
LAST-MODIFIED:20230427T084842Z
UID:1900-1683136800-1683140400@southronaldsaygolf.com
SUMMARY:Ladies Medal
DESCRIPTION:The 2nd medal competition of the season. \nCheck with the ladies captain or match secretary for tee times.
URL:https://southronaldsaygolf.com/event/ladies-medal/
CATEGORIES:Ladies competitions
END:VEVENT
BEGIN:VEVENT
DTSTART;TZID=Europe/London:20230507T143000
DTEND;TZID=Europe/London:20230507T170000
DTSTAMP:20260421T061617
CREATED:20230427T084810Z
LAST-MODIFIED:20230427T084810Z
UID:1902-1683469800-1683478800@southronaldsaygolf.com
SUMMARY:Jacqueline Rosie Memorial Trophy
DESCRIPTION:This is a ladies competition the tee times will be from 2:30pm and a draw will be held to set the groups.
URL:https://southronaldsaygolf.com/event/jacqueline-rosie-memorial-trophy/
CATEGORIES:Ladies competitions
END:VEVENT
BEGIN:VEVENT
DTSTART;VALUE=DATE:20250405
DTEND;VALUE=DATE:20250406
DTSTAMP:20260421T061617
CREATED:20250316T153406Z
LAST-MODIFIED:20250316T153406Z
UID:2105-1743811200-1743897599@southronaldsaygolf.com
SUMMARY:2025 Duck Race Sat 5th April
DESCRIPTION:The SRGC annual Duck Race will be held on Sat 5th April as usual centred around the clubhouse in the Hup. \nThere’s plenty going on\, as well as the usual Duck Race fundraiser\, with prizes galore on offer.
URL:https://southronaldsaygolf.com/event/2025-duck-race-sat-5th-april/
END:VEVENT
END:VCALENDAR