BEGIN:VCALENDAR
VERSION:2.0
PRODID:-//South Ronaldsay Golf Club - ECPv6.12.0.1//NONSGML v1.0//EN
CALSCALE:GREGORIAN
METHOD:PUBLISH
X-WR-CALNAME:South Ronaldsay Golf Club
X-ORIGINAL-URL:https://southronaldsaygolf.com
X-WR-CALDESC:Events for South Ronaldsay Golf Club
REFRESH-INTERVAL;VALUE=DURATION:PT1H
X-Robots-Tag:noindex
X-PUBLISHED-TTL:PT1H
BEGIN:VTIMEZONE
TZID:Europe/London
BEGIN:DAYLIGHT
TZOFFSETFROM:+0000
TZOFFSETTO:+0100
TZNAME:BST
DTSTART:20220327T010000
END:DAYLIGHT
BEGIN:STANDARD
TZOFFSETFROM:+0100
TZOFFSETTO:+0000
TZNAME:GMT
DTSTART:20221030T010000
END:STANDARD
END:VTIMEZONE
BEGIN:VEVENT
DTSTART;TZID=Europe/London:20220912T180000
DTEND;TZID=Europe/London:20220912T200000
DTSTAMP:20260421T170524
CREATED:20220904T083743Z
LAST-MODIFIED:20220904T083743Z
UID:1842-1663005600-1663012800@southronaldsaygolf.com
SUMMARY:Golf club v Bowling club
DESCRIPTION:The annual golf club v bowling club putting and bowling event will be resurrected on Monday 12th at 5:45pm \, this has not been played since 2019 so its good to get it back on the calendar. \nMixed team event – 12 players needed from each club so please let a committee member know if you want to play.
URL:https://southronaldsaygolf.com/event/golf-club-v-bowling-club/
LOCATION:St Margarets Hope Bowling club\, St Margarets Hope\, Orkney\, United Kingdom
END:VEVENT
END:VCALENDAR