BEGIN:VCALENDAR
VERSION:2.0
PRODID:-//South Ronaldsay Golf Club - ECPv6.12.0.1//NONSGML v1.0//EN
CALSCALE:GREGORIAN
METHOD:PUBLISH
X-ORIGINAL-URL:https://southronaldsaygolf.com
X-WR-CALDESC:Events for South Ronaldsay Golf Club
REFRESH-INTERVAL;VALUE=DURATION:PT1H
X-Robots-Tag:noindex
X-PUBLISHED-TTL:PT1H
BEGIN:VTIMEZONE
TZID:Europe/London
BEGIN:DAYLIGHT
TZOFFSETFROM:+0000
TZOFFSETTO:+0100
TZNAME:BST
DTSTART:20200329T010000
END:DAYLIGHT
BEGIN:STANDARD
TZOFFSETFROM:+0100
TZOFFSETTO:+0000
TZNAME:GMT
DTSTART:20201025T010000
END:STANDARD
END:VTIMEZONE
BEGIN:VEVENT
DTSTART;TZID=Europe/London:20200425T080000
DTEND;TZID=Europe/London:20200425T170000
DTSTAMP:20260423T211238
CREATED:20200215T101811Z
LAST-MODIFIED:20200215T101811Z
UID:1598-1587801600-1587834000@southronaldsaygolf.com
SUMMARY:Open competition - Gents and Ladies
DESCRIPTION:An 18-hole stroke play open for both gents and ladies. \nName sheets will be posted at the club and at OGC and SGC in due course.
URL:https://southronaldsaygolf.com/event/open-competition-gents-and-ladies/
END:VEVENT
END:VCALENDAR