BEGIN:VCALENDAR
VERSION:2.0
PRODID:-//South Ronaldsay Golf Club - ECPv6.12.0.1//NONSGML v1.0//EN
CALSCALE:GREGORIAN
METHOD:PUBLISH
X-WR-CALNAME:South Ronaldsay Golf Club
X-ORIGINAL-URL:https://southronaldsaygolf.com
X-WR-CALDESC:Events for South Ronaldsay Golf Club
REFRESH-INTERVAL;VALUE=DURATION:PT1H
X-Robots-Tag:noindex
X-PUBLISHED-TTL:PT1H
BEGIN:VTIMEZONE
TZID:Europe/London
BEGIN:DAYLIGHT
TZOFFSETFROM:+0000
TZOFFSETTO:+0100
TZNAME:BST
DTSTART:20200329T010000
END:DAYLIGHT
BEGIN:STANDARD
TZOFFSETFROM:+0100
TZOFFSETTO:+0000
TZNAME:GMT
DTSTART:20201025T010000
END:STANDARD
END:VTIMEZONE
BEGIN:VEVENT
DTSTART;TZID=Europe/London:20200419T110000
DTEND;TZID=Europe/London:20200419T150000
DTSTAMP:20260423T211209
CREATED:20200215T102158Z
LAST-MODIFIED:20200215T102244Z
UID:1600-1587294000-1587308400@southronaldsaygolf.com
SUMMARY:Scootie Pudding
DESCRIPTION:The annual grudge match between SRGC and SGC will take place at the Hope this year. \nNames sheets will be posted in both clubs in due course. \nThere will be refreshments at Robertson’s after the match.
URL:https://southronaldsaygolf.com/event/scootie-pudding-2/
END:VEVENT
END:VCALENDAR