BEGIN:VCALENDAR
VERSION:2.0
PRODID:-//South Ronaldsay Golf Club - ECPv6.12.0.1//NONSGML v1.0//EN
CALSCALE:GREGORIAN
METHOD:PUBLISH
X-ORIGINAL-URL:https://southronaldsaygolf.com
X-WR-CALDESC:Events for South Ronaldsay Golf Club
REFRESH-INTERVAL;VALUE=DURATION:PT1H
X-Robots-Tag:noindex
X-PUBLISHED-TTL:PT1H
BEGIN:VTIMEZONE
TZID:Europe/London
BEGIN:DAYLIGHT
TZOFFSETFROM:+0000
TZOFFSETTO:+0100
TZNAME:BST
DTSTART:20190331T010000
END:DAYLIGHT
BEGIN:STANDARD
TZOFFSETFROM:+0100
TZOFFSETTO:+0000
TZNAME:GMT
DTSTART:20191027T010000
END:STANDARD
END:VTIMEZONE
BEGIN:VEVENT
DTSTART;TZID=Europe/London:20190720T080000
DTEND;TZID=Europe/London:20190720T170000
DTSTAMP:20260424T133342
CREATED:20190621T095846Z
LAST-MODIFIED:20190622T094538Z
UID:1403-1563609600-1563642000@southronaldsaygolf.com
SUMMARY:Ladies Captains prize
DESCRIPTION:Time to be advised
URL:https://southronaldsaygolf.com/event/2019-captains-prize/
END:VEVENT
BEGIN:VEVENT
DTSTART;TZID=Europe/London:20190720T080000
DTEND;TZID=Europe/London:20190720T170000
DTSTAMP:20260424T133342
CREATED:20190622T094853Z
LAST-MODIFIED:20190623T071531Z
UID:1406-1563609600-1563642000@southronaldsaygolf.com
SUMMARY:Lows mens and ladies Opens at OGC
DESCRIPTION:Details to follow –
URL:https://southronaldsaygolf.com/event/lows-open-at-ogc/
END:VEVENT
END:VCALENDAR