BEGIN:VCALENDAR
VERSION:2.0
PRODID:-//South Ronaldsay Golf Club - ECPv6.12.0.1//NONSGML v1.0//EN
CALSCALE:GREGORIAN
METHOD:PUBLISH
X-ORIGINAL-URL:https://southronaldsaygolf.com
X-WR-CALDESC:Events for South Ronaldsay Golf Club
REFRESH-INTERVAL;VALUE=DURATION:PT1H
X-Robots-Tag:noindex
X-PUBLISHED-TTL:PT1H
BEGIN:VTIMEZONE
TZID:Europe/London
BEGIN:DAYLIGHT
TZOFFSETFROM:+0000
TZOFFSETTO:+0100
TZNAME:BST
DTSTART:20190331T010000
END:DAYLIGHT
BEGIN:STANDARD
TZOFFSETFROM:+0100
TZOFFSETTO:+0000
TZNAME:GMT
DTSTART:20191027T010000
END:STANDARD
END:VTIMEZONE
BEGIN:VEVENT
DTSTART;TZID=Europe/London:20190630T090000
DTEND;TZID=Europe/London:20190630T090000
DTSTAMP:20260424T152308
CREATED:20190618T201733Z
LAST-MODIFIED:20190618T201733Z
UID:1375-1561885200-1561885200@southronaldsaygolf.com
SUMMARY:Highland Park June Medal
DESCRIPTION:
URL:https://southronaldsaygolf.com/event/highland-park-june-medal/
ATTACH;FMTTYPE=image/png:https://southronaldsaygolf.com/wp-content/uploads/2019/06/Highland-Park-logo-e1686647507244.png
END:VEVENT
BEGIN:VEVENT
DTSTART;TZID=Europe/London:20190630T140000
DTEND;TZID=Europe/London:20190630T180000
DTSTAMP:20260424T152308
CREATED:20190621T095238Z
LAST-MODIFIED:20190621T095238Z
UID:1400-1561903200-1561917600@southronaldsaygolf.com
SUMMARY:Cook Aquaculture Seniors Open at OGC
DESCRIPTION:  \nSUNDAY 30th June 2019 \nTee-time — Shotgun start at 2pm \nENTRY FEE £5 \nENTRIES TO EDWIN SMITH [MATCH SECRETARY] \nBEFORE 1300 Hours on THURSDAY 27th June 2019 \nBY PHONE/TEXT – 07788 613584 or EMAIL – edwin837@btinternet.com
URL:https://southronaldsaygolf.com/event/cook-aquaculture-seniors-open-at-ogc/
LOCATION:Orkney Golf Club\, Grainbank\, Kirkwall\, Orkney\, United Kingdom
END:VEVENT
END:VCALENDAR