BEGIN:VCALENDAR
VERSION:2.0
PRODID:-//South Ronaldsay Golf Club - ECPv6.12.0.1//NONSGML v1.0//EN
CALSCALE:GREGORIAN
METHOD:PUBLISH
X-ORIGINAL-URL:https://southronaldsaygolf.com
X-WR-CALDESC:Events for South Ronaldsay Golf Club
REFRESH-INTERVAL;VALUE=DURATION:PT1H
X-Robots-Tag:noindex
X-PUBLISHED-TTL:PT1H
BEGIN:VTIMEZONE
TZID:Europe/London
BEGIN:DAYLIGHT
TZOFFSETFROM:+0000
TZOFFSETTO:+0100
TZNAME:BST
DTSTART:20190331T010000
END:DAYLIGHT
BEGIN:STANDARD
TZOFFSETFROM:+0100
TZOFFSETTO:+0000
TZNAME:GMT
DTSTART:20191027T010000
END:STANDARD
END:VTIMEZONE
BEGIN:VEVENT
DTSTART;TZID=Europe/London:20190511T080000
DTEND;TZID=Europe/London:20190511T170000
DTSTAMP:20260424T171155
CREATED:20190505T204853Z
LAST-MODIFIED:20190505T205050Z
UID:1227-1557561600-1557594000@southronaldsaygolf.com
SUMMARY:Streamline Shipping Open at OCG
DESCRIPTION:Names sheets at the club \nNames to be in by 5pm on Wednesday
URL:https://southronaldsaygolf.com/event/streamline-shipping-open-at-ocg/
END:VEVENT
END:VCALENDAR